BEGIN:VCALENDAR
VERSION:2.0
PRODID:-//Eastern Buckeye Region : Porsche Club of America - ECPv6.15.20//NONSGML v1.0//EN
CALSCALE:GREGORIAN
METHOD:PUBLISH
X-ORIGINAL-URL:https://ebrpca.org
X-WR-CALDESC:Events for Eastern Buckeye Region : Porsche Club of America
REFRESH-INTERVAL;VALUE=DURATION:PT1H
X-Robots-Tag:noindex
X-PUBLISHED-TTL:PT1H
BEGIN:VTIMEZONE
TZID:America/New_York
BEGIN:DAYLIGHT
TZOFFSETFROM:-0500
TZOFFSETTO:-0400
TZNAME:EDT
DTSTART:20260308T070000
END:DAYLIGHT
BEGIN:STANDARD
TZOFFSETFROM:-0400
TZOFFSETTO:-0500
TZNAME:EST
DTSTART:20261101T060000
END:STANDARD
BEGIN:DAYLIGHT
TZOFFSETFROM:-0500
TZOFFSETTO:-0400
TZNAME:EDT
DTSTART:20270314T070000
END:DAYLIGHT
BEGIN:STANDARD
TZOFFSETFROM:-0400
TZOFFSETTO:-0500
TZNAME:EST
DTSTART:20271107T060000
END:STANDARD
BEGIN:DAYLIGHT
TZOFFSETFROM:-0500
TZOFFSETTO:-0400
TZNAME:EDT
DTSTART:20280312T070000
END:DAYLIGHT
BEGIN:STANDARD
TZOFFSETFROM:-0400
TZOFFSETTO:-0500
TZNAME:EST
DTSTART:20281105T060000
END:STANDARD
END:VTIMEZONE
BEGIN:VEVENT
DTSTART;TZID=America/New_York:20270118T183000
DTEND;TZID=America/New_York:20270118T203000
DTSTAMP:20260420T081928
CREATED:20251113T173746Z
LAST-MODIFIED:20260224T173608Z
UID:10000013-1800297000-1800304200@ebrpca.org
SUMMARY:EBR Board Meeting\, January
DESCRIPTION:Eastern Buckeye Region’s monthly board meeting. \nEBR members are welcome to attend. \nIf you would like to attend\, please contact the EBR President for instructions; see: https://EBRpca.org/contact.
URL:https://ebrpca.org/event/ebr-board-meeting-january/
LOCATION:Ohio
CATEGORIES:Board Meeting
ATTACH;FMTTYPE=image/jpeg:https://ebrpca.org/wp-content/uploads/2025/09/Events-EBRBoardMeeting.jpg
END:VEVENT
BEGIN:VEVENT
DTSTART;TZID=America/New_York:20270215T183000
DTEND;TZID=America/New_York:20270215T203000
DTSTAMP:20260420T081928
CREATED:20251118T171033Z
LAST-MODIFIED:20260224T173718Z
UID:10000015-1802716200-1802723400@ebrpca.org
SUMMARY:EBR Board Meeting\, February
DESCRIPTION:Eastern Buckeye Region’s monthly board meeting. \nEBR members are welcome to attend. \nIf you would like to attend\, please contact the EBR President for instructions; see: https://EBRpca.org/contact.
URL:https://ebrpca.org/event/ebr-board-meeting-february/
LOCATION:Ohio
CATEGORIES:Board Meeting,Social Event
ATTACH;FMTTYPE=image/jpeg:https://ebrpca.org/wp-content/uploads/2025/09/Events-EBRBoardMeeting.jpg
END:VEVENT
END:VCALENDAR