BEGIN:VCALENDAR
VERSION:2.0
PRODID:-//Eastern Buckeye Region : Porsche Club of America - ECPv6.15.20//NONSGML v1.0//EN
CALSCALE:GREGORIAN
METHOD:PUBLISH
X-WR-CALNAME:Eastern Buckeye Region : Porsche Club of America
X-ORIGINAL-URL:https://ebrpca.org
X-WR-CALDESC:Events for Eastern Buckeye Region : Porsche Club of America
REFRESH-INTERVAL;VALUE=DURATION:PT1H
X-Robots-Tag:noindex
X-PUBLISHED-TTL:PT1H
BEGIN:VTIMEZONE
TZID:America/New_York
BEGIN:DAYLIGHT
TZOFFSETFROM:-0500
TZOFFSETTO:-0400
TZNAME:EDT
DTSTART:20230312T070000
END:DAYLIGHT
BEGIN:STANDARD
TZOFFSETFROM:-0400
TZOFFSETTO:-0500
TZNAME:EST
DTSTART:20231105T060000
END:STANDARD
BEGIN:DAYLIGHT
TZOFFSETFROM:-0500
TZOFFSETTO:-0400
TZNAME:EDT
DTSTART:20240310T070000
END:DAYLIGHT
BEGIN:STANDARD
TZOFFSETFROM:-0400
TZOFFSETTO:-0500
TZNAME:EST
DTSTART:20241103T060000
END:STANDARD
BEGIN:DAYLIGHT
TZOFFSETFROM:-0500
TZOFFSETTO:-0400
TZNAME:EDT
DTSTART:20250309T070000
END:DAYLIGHT
BEGIN:STANDARD
TZOFFSETFROM:-0400
TZOFFSETTO:-0500
TZNAME:EST
DTSTART:20251102T060000
END:STANDARD
BEGIN:DAYLIGHT
TZOFFSETFROM:-0500
TZOFFSETTO:-0400
TZNAME:EDT
DTSTART:20260308T070000
END:DAYLIGHT
BEGIN:STANDARD
TZOFFSETFROM:-0400
TZOFFSETTO:-0500
TZNAME:EST
DTSTART:20261101T060000
END:STANDARD
BEGIN:DAYLIGHT
TZOFFSETFROM:-0500
TZOFFSETTO:-0400
TZNAME:EDT
DTSTART:20270314T070000
END:DAYLIGHT
BEGIN:STANDARD
TZOFFSETFROM:-0400
TZOFFSETTO:-0500
TZNAME:EST
DTSTART:20271107T060000
END:STANDARD
END:VTIMEZONE
BEGIN:VEVENT
DTSTART;TZID=America/New_York:20260316T183000
DTEND;TZID=America/New_York:20260316T203000
DTSTAMP:20260420T111505
CREATED:20260224T161216Z
LAST-MODIFIED:20260224T161216Z
UID:10000026-1773685800-1773693000@ebrpca.org
SUMMARY:EBR Board Meeting\, March
DESCRIPTION:Eastern Buckeye Region’s monthly board meeting. \nEBR members are welcome to attend. \nIf you would like to attend\, please contact the EBR President for instructions; see: https://EBRpca.org/contact.
URL:https://ebrpca.org/event/ebr-board-meeting-march/
LOCATION:Ohio
CATEGORIES:Board Meeting
ATTACH;FMTTYPE=image/jpeg:https://ebrpca.org/wp-content/uploads/2025/09/Events-EBRBoardMeeting.jpg
END:VEVENT
BEGIN:VEVENT
DTSTART;TZID=America/New_York:20260312T183000
DTEND;TZID=America/New_York:20260312T203000
DTSTAMP:20260420T111505
CREATED:20260101T174922Z
LAST-MODIFIED:20260224T181542Z
UID:10000017-1773340200-1773347400@ebrpca.org
SUMMARY:Thirsty Thursday at Mulligan's Pub
DESCRIPTION:Join your EBR Porsche family at Mulligan’s Restaurant and Pub for a cozy warm atmosphere and great food! \nQuestions?\nContact Susan Hill
URL:https://ebrpca.org/event/winding-down-wednesday-mulligans-restaurant/
LOCATION:Mulligan’s Restaurant\, 4118 Belden Village St.\, NW\, Canton\, Ohio\, 44718
CATEGORIES:Social Event
ATTACH;FMTTYPE=image/jpeg:https://ebrpca.org/wp-content/uploads/2026/02/Events-Mulligans-Restaurant.jpg
END:VEVENT
BEGIN:VEVENT
DTSTART;TZID=America/New_York:20260212T183000
DTEND;TZID=America/New_York:20260212T203000
DTSTAMP:20260420T111505
CREATED:20251214T220623Z
LAST-MODIFIED:20260203T182635Z
UID:10000016-1770921000-1770928200@ebrpca.org
SUMMARY:February Social\, Butcher & Sprout
DESCRIPTION:Kick off the month with your fellow Porsche Club Family for a relaxed evening of great food and fun.  This is an excellent opportunity to meet new members and the new board for 2026-2027.
URL:https://ebrpca.org/event/sammies-bar-and-grill/
LOCATION:Butcher & Sprout\, 1850 Front Street\, Cuyahoga Falls\, ohio\, 44221
CATEGORIES:Eastern Buckeye Region,Social Event
ATTACH;FMTTYPE=image/jpeg:https://ebrpca.org/wp-content/uploads/2026/02/Events-Butcher-SproutA.jpg
END:VEVENT
BEGIN:VEVENT
DTSTART;TZID=America/New_York:20260124T130000
DTEND;TZID=America/New_York:20260124T150000
DTSTAMP:20260420T111505
CREATED:20251118T170625Z
LAST-MODIFIED:20260101T174559Z
UID:10000014-1769259600-1769266800@ebrpca.org
SUMMARY:Chili Cook Off
DESCRIPTION:EBR’s Annual Chili Cook Off. \nQuestions? Contact Susan Gardner-Hill
URL:https://ebrpca.org/event/chili-cook-off/
LOCATION:Chili Cook Off\, 538 W Tuscarawas Ave\, Barberton\, Ohio\, 44203
CATEGORIES:Social Event
ATTACH;FMTTYPE=image/png:https://ebrpca.org/wp-content/uploads/2025/11/Events-EBRs-Chilicookoff.png
END:VEVENT
BEGIN:VEVENT
DTSTART;TZID=America/New_York:20260122T080000
DTEND;TZID=America/New_York:20260125T170000
DTSTAMP:20260420T111505
CREATED:20250927T161611Z
LAST-MODIFIED:20250927T162500Z
UID:10000003-1769068800-1769360400@ebrpca.org
SUMMARY:Rolex 24 at Daytona
DESCRIPTION:Rolex 24 at Daytona\nJANUARY 22-25\, 2026 \nA Porscheplatz is being planned for the famous Rolex 24 at Daytona! The Porscheplatz Tent will be open to all PCA members and Porsche owners\, and located in the infield\, near Turn 4\, in the Porsche Car Corral Parking Lot. \nActivities in the Porscheplatz tent include presentations\, special drawings and Porsche team garage/paddock tours. You can also just relax in the tent\, enjoy a cool beverage\, and watch the races via live feed TV. Admittance into the Porscheplatz Tent is exclusively for PCA members and Porsche owners with a General Admission ticket to the races. There is no special ticket required for you to personally come to the tent. (You must have purchased a Porsche Car Corral Parking Pass to park in the Porsche Car Corral. Porsche Car Corral Parking passes are SOLD OUT\, see below) \nRemember to bring your PCA membership card or proof of Porsche ownership for admittance. (PCA Membership Card\, Porsche key\, insurance papers\, etc.) The Porscheplatz is sponsored by PCA with support from Porsche Cars North America. \nALL TICKET SALES ARE HANDLED BY DAYTONA INTERNATIONAL SPEEDWAY. \nROLEX 24 – Daytona International Speedway for more information and to purchase all tickets. \nMore ticket and event information: \nhttps://www.daytonainternationalspeedway.com/ \nhttps://www.daytonainternationalspeedway.com/events/rolex24-at-daytona/ \nor call 1-800-PITSHOP \nPCA DOES NOT SELL CAR CORRAL OR ADMISSION TICKETS.
URL:https://ebrpca.org/event/rolex-24-at-daytona/
LOCATION:Daytona International Speedway\, 1801 W International Speedway Blvd\, Daytona Beach\, flori\, 32114
CATEGORIES:PCA National,Porsche AG
ATTACH;FMTTYPE=image/jpeg:https://ebrpca.org/wp-content/uploads/2025/09/Events-Rolex24atDaytona.jpg
END:VEVENT
BEGIN:VEVENT
DTSTART;TZID=America/New_York:20251205T180000
DTEND;TZID=America/New_York:20251205T203000
DTSTAMP:20260420T111505
CREATED:20251014T232906Z
LAST-MODIFIED:20251014T233638Z
UID:10000011-1764957600-1764966600@ebrpca.org
SUMMARY:Annual Christmas Charity Dinner
DESCRIPTION:Join EBR for our Annual Christmas Charity Dinner being held at Bender’s Tavern in Canton\, Ohio. This year donations will be going to A Community Christmas of Stark County. \nWe are currently seeking donations of raffle baskets and individual auction items. \nRSVP’s are due by November 28 to Kathy Bernstein\, kbernstein3071@gmail.com.
URL:https://ebrpca.org/event/annual-christmas-charity-dinner/
LOCATION:Bender’s Tavern\, 137 Court Ave SW\, Canton\, Ohio\, 44702
CATEGORIES:Social Event
ATTACH;FMTTYPE=image/png:https://ebrpca.org/wp-content/uploads/2025/10/Events-EBRsAnnualChristmasCharityDinner.png
END:VEVENT
BEGIN:VEVENT
DTSTART;TZID=America/New_York:20251113T183000
DTEND;TZID=America/New_York:20251113T203000
DTSTAMP:20260420T111505
CREATED:20250927T163720Z
LAST-MODIFIED:20251020T234110Z
UID:10000005-1763058600-1763065800@ebrpca.org
SUMMARY:Annual EBR Friendsgiving
DESCRIPTION:Annual EBR Friendsgiving\nJoin us for our annual EBR Porsche Friendsgiving and November’s Thirsty Thursday\, this year at Bistro on Main in Kent
URL:https://ebrpca.org/event/friendsgiving/
LOCATION:Bistro On Main\, 1313 W Main Street\, Kent\, Ohio\, 44240
CATEGORIES:Social Event
ATTACH;FMTTYPE=image/png:https://ebrpca.org/wp-content/uploads/2025/09/Events-EBR-Friendsgiving-at-TheBistro.png
END:VEVENT
BEGIN:VEVENT
DTSTART;TZID=America/New_York:20251025T113000
DTEND;TZID=America/New_York:20251025T150000
DTSTAMP:20260420T111505
CREATED:20251014T233845Z
LAST-MODIFIED:20251014T235115Z
UID:10000012-1761391800-1761404400@ebrpca.org
SUMMARY:EBR Fun Drive and Scavenger Hunt
DESCRIPTION:EBR Fun Drive and Scavenger Hunt\nJoin us for a fun\, competitive rally that combines great driving with a scavenger hunt challenge\, ending with lunch and prizes! \nStart: 426 Sherbrook Circle\, NE\, North Canton\nEnd: Talquepaque Mexican Restaurant\, 2682 Easton St.\, NE at Oakwood Square
URL:https://ebrpca.org/event/ebr-fun-drive-and-scavenger-hunt/
LOCATION:Tlaquepaque – Oakwood Square\, 2682 Easton St NE\, Canton\, Ohio\, 44721
CATEGORIES:Driving Tour,Social Event
ATTACH;FMTTYPE=image/jpeg:https://ebrpca.org/wp-content/uploads/2025/10/Events-FunDriveandScavengerHunt.jpg
END:VEVENT
BEGIN:VEVENT
DTSTART;TZID=America/New_York:20241213T170000
DTEND;TZID=America/New_York:20241213T200000
DTSTAMP:20260420T111505
CREATED:20240927T003222Z
LAST-MODIFIED:20251018T151347Z
UID:10000001-1734109200-1734120000@ebrpca.org
SUMMARY:Annual Holiday Party
DESCRIPTION:Event description goes here. Event description goes here. Event description goes here. Event description goes here. Event description goes here. Event description goes here.
URL:https://ebrpca.org/event/annual-holiday-party/
LOCATION:Cilantro Thai & Sushi\, 326 S Main St\, Akron\, Ohio\, 44308
CATEGORIES:Social Event
ATTACH;FMTTYPE=image/jpeg:https://ebrpca.org/wp-content/uploads/2025/09/Events-Annual-Holiday-Party.jpg
END:VEVENT
END:VCALENDAR